BEGIN:VCALENDAR
VERSION:2.0
PRODID:-//destination.one//NONSGML destination.meta API//DE
X-WR-CALDESC:A calendar powered by destination.meta
X-WR-CALNAME:bischofsgruen Kalender via destination.meta
BEGIN:VEVENT
CATEGORIES:Feste
CATEGORIES:Kulinarisches
CATEGORIES:Kultur/Brauchtum
CATEGORIES:Musik
CATEGORIES:Sonstiges
DESCRIPTION:Glühweinfest der Freunde des Skiclubs\n\nmehr Informationen unt
 er http://pages.destination.one/de/bischofsgruen/streaming/detail/Event/e_
 101187858/gl-hweinfest
DTEND;TZID=Europe/Berlin:20261128T235900
DTSTAMP:20260420T103625Z
DTSTART;TZID=Europe/Berlin:20261128T170000
GEO:50.048321;11.808858
LOCATION:Ochsenkopf Schanzenarena\, Skiclub Bischofsgrün\, Bischofsgrün
SEQUENCE:0
SUMMARY:Glühweinfest
UID:e_101187858_iv0
URL:http://pages.destination.one/de/bischofsgruen/streaming/detail/Event/e_
 101187858/gl-hweinfest
END:VEVENT
BEGIN:VTIMEZONE
TZID:Europe/Berlin
X-LIC-LOCATION:Europe/Berlin
BEGIN:DAYLIGHT
DTSTART:19700329T020000
RRULE:FREQ=YEARLY;BYDAY=-1SU;BYMONTH=3
TZNAME:CEST
TZOFFSETFROM:+0100
TZOFFSETTO:+0200
END:DAYLIGHT
BEGIN:STANDARD
DTSTART:19701025T030000
RRULE:FREQ=YEARLY;BYDAY=-1SU;BYMONTH=10
TZNAME:CET
TZOFFSETFROM:+0200
TZOFFSETTO:+0100
END:STANDARD
END:VTIMEZONE
END:VCALENDAR
