BEGIN:VCALENDAR
VERSION:2.0
PRODID:-//destination.one//NONSGML destination.meta API//DE
X-WR-CALDESC:A calendar powered by destination.meta
X-WR-CALNAME:bischofsgruen Kalender via destination.meta
BEGIN:VEVENT
CATEGORIES:Gesundheit/Wellness
CATEGORIES:Sonstiges
CATEGORIES:Sport/Freizeit
CATEGORIES:Vorträge/Kurse
DESCRIPTION:Frische Abend\n\nmehr Informationen unter http://pages.destinat
 ion.one/de/bischofsgruen/streaming/detail/Event/e_100885652/natur-frische-
 abend
DTEND;TZID=Europe/Berlin:20240904T200000
DTSTAMP:20260423T102122Z
DTSTART;TZID=Europe/Berlin:20240904T183000
GEO:50.051435;11.798394
LOCATION: Auszeit Kosmetik und Wellness Studio\, Hauptstr. 23 a\, Bischofsg
 rün
SEQUENCE:0
SUMMARY:Natur Frische Abend
UID:e_100885652_iv0
URL:http://pages.destination.one/de/bischofsgruen/streaming/detail/Event/e_
 100885652/natur-frische-abend
END:VEVENT
BEGIN:VEVENT
CATEGORIES:Gesundheit/Wellness
CATEGORIES:Sonstiges
CATEGORIES:Sport/Freizeit
CATEGORIES:Vorträge/Kurse
DESCRIPTION:Frische Abend\n\nmehr Informationen unter http://pages.destinat
 ion.one/de/bischofsgruen/streaming/detail/Event/e_100885652/natur-frische-
 abend
DTEND;TZID=Europe/Berlin:20250128T200000
DTSTAMP:20260423T102122Z
DTSTART;TZID=Europe/Berlin:20250128T183000
GEO:50.051435;11.798394
LOCATION: Auszeit Kosmetik und Wellness Studio\, Hauptstr. 23 a\, Bischofsg
 rün
SEQUENCE:0
SUMMARY:Natur Frische Abend
UID:e_100885652_iv1
URL:http://pages.destination.one/de/bischofsgruen/streaming/detail/Event/e_
 100885652/natur-frische-abend
END:VEVENT
BEGIN:VEVENT
CATEGORIES:Gesundheit/Wellness
CATEGORIES:Sonstiges
CATEGORIES:Sport/Freizeit
CATEGORIES:Vorträge/Kurse
DESCRIPTION:Frische Abend\n\nmehr Informationen unter http://pages.destinat
 ion.one/de/bischofsgruen/streaming/detail/Event/e_100885652/natur-frische-
 abend
DTEND;TZID=Europe/Berlin:20260609T200000
DTSTAMP:20260423T102122Z
DTSTART;TZID=Europe/Berlin:20260609T183000
GEO:50.051435;11.798394
LOCATION: Auszeit Kosmetik und Wellness Studio\, Hauptstr. 23 a\, Bischofsg
 rün
SEQUENCE:0
SUMMARY:Natur Frische Abend
UID:e_100885652_iv2
URL:http://pages.destination.one/de/bischofsgruen/streaming/detail/Event/e_
 100885652/natur-frische-abend
END:VEVENT
BEGIN:VEVENT
CATEGORIES:Gesundheit/Wellness
CATEGORIES:Sonstiges
CATEGORIES:Sport/Freizeit
CATEGORIES:Vorträge/Kurse
DESCRIPTION:Frische Abend\n\nmehr Informationen unter http://pages.destinat
 ion.one/de/bischofsgruen/streaming/detail/Event/e_100885652/natur-frische-
 abend
DTEND;TZID=Europe/Berlin:20260623T200000
DTSTAMP:20260423T102122Z
DTSTART;TZID=Europe/Berlin:20260623T183000
GEO:50.051435;11.798394
LOCATION: Auszeit Kosmetik und Wellness Studio\, Hauptstr. 23 a\, Bischofsg
 rün
SEQUENCE:0
SUMMARY:Natur Frische Abend
UID:e_100885652_iv3
URL:http://pages.destination.one/de/bischofsgruen/streaming/detail/Event/e_
 100885652/natur-frische-abend
END:VEVENT
BEGIN:VTIMEZONE
TZID:Europe/Berlin
X-LIC-LOCATION:Europe/Berlin
BEGIN:DAYLIGHT
DTSTART:19700329T020000
RRULE:FREQ=YEARLY;BYDAY=-1SU;BYMONTH=3
TZNAME:CEST
TZOFFSETFROM:+0100
TZOFFSETTO:+0200
END:DAYLIGHT
BEGIN:STANDARD
DTSTART:19701025T030000
RRULE:FREQ=YEARLY;BYDAY=-1SU;BYMONTH=10
TZNAME:CET
TZOFFSETFROM:+0200
TZOFFSETTO:+0100
END:STANDARD
END:VTIMEZONE
END:VCALENDAR
