BEGIN:VCALENDAR
VERSION:2.0
PRODID:-//destination.one//NONSGML destination.meta API//DE
X-WR-CALDESC:A calendar powered by destination.meta
X-WR-CALNAME:bischofsgruen Kalender via destination.meta
BEGIN:VEVENT
CATEGORIES:Kultur/Brauchtum
CATEGORIES:Musik
CATEGORIES:Sonstiges
DESCRIPTION:Konzert im Grund 74\n\nmehr Informationen unter http://pages.de
 stination.one/de/bischofsgruen/streaming/detail/Event/e_100702548/konzert-
 im-grund-74-jonah-smith
DTEND;TZID=Europe/Berlin:20250105T235900
DTSTAMP:20260423T085358Z
DTSTART;TZID=Europe/Berlin:20250105T200000
GEO:50.051242;11.797214
LOCATION:Grund 74\, Jägerstraße 9 im Kurhaus\, Bischofsgrün
PRIORITY:4
SEQUENCE:0
SUMMARY:Konzert im Grund 74 Jonah Smith
UID:e_100702548_iv0
URL:http://pages.destination.one/de/bischofsgruen/streaming/detail/Event/e_
 100702548/konzert-im-grund-74-jonah-smith
END:VEVENT
BEGIN:VEVENT
CATEGORIES:Kultur/Brauchtum
CATEGORIES:Musik
CATEGORIES:Sonstiges
DESCRIPTION:Konzert im Grund 74\n\nmehr Informationen unter http://pages.de
 stination.one/de/bischofsgruen/streaming/detail/Event/e_100702548/konzert-
 im-grund-74-jonah-smith
DTEND;TZID=Europe/Berlin:20260508T235900
DTSTAMP:20260423T085358Z
DTSTART;TZID=Europe/Berlin:20260508T200000
GEO:50.051242;11.797214
LOCATION:Grund 74\, Jägerstraße 9 im Kurhaus\, Bischofsgrün
PRIORITY:4
SEQUENCE:0
SUMMARY:Konzert im Grund 74 Jonah Smith
UID:e_100702548_iv1
URL:http://pages.destination.one/de/bischofsgruen/streaming/detail/Event/e_
 100702548/konzert-im-grund-74-jonah-smith
END:VEVENT
BEGIN:VTIMEZONE
TZID:Europe/Berlin
X-LIC-LOCATION:Europe/Berlin
BEGIN:DAYLIGHT
DTSTART:19700329T020000
RRULE:FREQ=YEARLY;BYDAY=-1SU;BYMONTH=3
TZNAME:CEST
TZOFFSETFROM:+0100
TZOFFSETTO:+0200
END:DAYLIGHT
BEGIN:STANDARD
DTSTART:19701025T030000
RRULE:FREQ=YEARLY;BYDAY=-1SU;BYMONTH=10
TZNAME:CET
TZOFFSETFROM:+0200
TZOFFSETTO:+0100
END:STANDARD
END:VTIMEZONE
END:VCALENDAR
